BEGIN:VCALENDAR
VERSION:2.0
PRODID:-//eventon.com NONSGML v1.0//EN
CALSCALE:GREGORIAN
METHOD:PUBLISH
BEGIN:VEVENT
UID:69e90e5bc3a1b
DTSTAMP:20260422T180723Z
DTSTART:20250628T175200Z
DTEND:20250628T202600Z
LOCATION:
SUMMARY:Attila Hun
DESCRIPTION:Attila Hun\nhttps://spacepatrol.uk/events/attila-hunthe/
URL:https://spacepatrol.uk/events/attila-hunthe/
END:VEVENT
END:VCALENDAR